Workbook
Name ISP_Topic_Codes: 'ISP Keywords'!#REF!
Name OLE_LINK1: 'ISP Assessment Cover Sheet'!$A$1

Sheet ISP Assessment Cover Sheet
A1: Independent Study Project (ISP)
A2: Assessment Summary Sheet
A4: Student Name: | B4: To be completed by Registrar
A5: Student Number: | B5: To be completed by Registrar
A6: Sending School: | B6: To be completed by Registrar
A7: Program: | B7: To be completed by Registrar
A8: Term: | B8: To be completed by Registrar
A9: Academic Director: | B9: To be completed by Registrar
A11: Independent Study Project Title: | C11: To be completed by AD
A12: Keywords: | C12: Enter keywords here, separated by a comma
A13: Independent Study Project Final Letter Grade: | E13: =IF(E32<64,"F",(IF(AND(E32>63,E32<67),"D",(IF(AND(E32>66,E32<70),"D+",(IF(AND(E32>69,E32<74),"C-",(IF(AND(E32>73,E32<77),"C",(IF(AND(E32>76,E32<80),"C+",(IF(AND(E32>79,E32<84),"B-",(IF(AND(E32>83,E32<87),"B",(IF(AND(E32>86,E32<90),"B+",(IF(AND(E32>89,E32<94),"A-","A"))))))))))))))))))) -> F | F13: =IF((A28+A29+A30<>1),"ERROR - percentages must total 100%","")
A15: Independent Study Project | D15: Possible | E15: Awarded
A16: ='Ind. Study Project Rubric'!A7 -> Title / Acknowledgements / Abstract | D16: ='Ind. Study Project Rubric'!C7 -> 5 | E16: ='Ind. Study Project Rubric'!D7 -> 0 | F16: =IF(E16>D16,"This value cannot exceed the maximum; please revise","")
A17: ='Ind. Study Project Rubric'!A8 -> Research Question / Objectives / Justification | D17: ='Ind. Study Project Rubric'!C8 -> 10 | E17: ='Ind. Study Project Rubric'!D8 -> 0 | F17: =IF(E17>D17,"This value cannot exceed the maximum; please revise","")
A18: ='Ind. Study Project Rubric'!A9 -> Context and Literature Review | D18: ='Ind. Study Project Rubric'!C9 -> 10 | E18: ='Ind. Study Project Rubric'!D9 -> 0 | F18: =IF(E18>D18,"This value cannot exceed the maximum; please revise","")
A19: ='Ind. Study Project Rubric'!A10 -> Methods | D19: ='Ind. Study Project Rubric'!C10 -> 15 | E19: ='Ind. Study Project Rubric'!D10 -> 0 | F19: =IF(E19>D19,"This value cannot exceed the maximum; please revise","")
A20: ='Ind. Study Project Rubric'!A11 -> Ethics | D20: ='Ind. Study Project Rubric'!C11 -> 10 | E20: ='Ind. Study Project Rubric'!D11 -> 0 | F20: =IF(E20>D20,"This value cannot exceed the maximum; please revise","")
A21: ='Ind. Study Project Rubric'!A12 -> Presentation of results / findings | D21: ='Ind. Study Project Rubric'!C12 -> 15 | E21: ='Ind. Study Project Rubric'!D12 -> 0 | F21: =IF(E21>D21,"This value cannot exceed the maximum; please revise","")
A22: ='Ind. Study Project Rubric'!A13 -> Depth of analysis | D22: ='Ind. Study Project Rubric'!C13 -> 15 | E22: ='Ind. Study Project Rubric'!D13 -> 0 | F22: =IF(E22>D22,"This value cannot exceed the maximum; please revise","")
A23: ='Ind. Study Project Rubric'!A14 -> Conclusions | D23: ='Ind. Study Project Rubric'!C14 -> 10 | E23: ='Ind. Study Project Rubric'!D14 -> 0 | F23: =IF(E23>D23,"This value cannot exceed the maximum; please revise","")
A24: ='Ind. Study Project Rubric'!A15 -> Technical aspects | D24: ='Ind. Study Project Rubric'!C15 -> 5 | E24: ='Ind. Study Project Rubric'!D15 -> 0 | F24: =IF(E24>D24,"This value cannot exceed the maximum; please revise","")
A25: ='Ind. Study Project Rubric'!A16 -> Effort | D25: ='Ind. Study Project Rubric'!C16 -> 5 | E25: ='Ind. Study Project Rubric'!D16 -> 0 | F25: =IF(E25>D25,"This value cannot exceed the maximum; please revise","")
A26: =IF('Ind. Study Project Rubric'!C17=0,"",'Ind. Study Project Rubric'!A17) | D26: =IF('Ind. Study Project Rubric'!C17=0,"",'Ind. Study Project Rubric'!C17) | E26: =IF('Ind. Study Project Rubric'!C17=0,"",'Ind. Study Project Rubric'!D17) | F26: =IF(E26>D26,"This value cannot exceed the maximum; please revise","")
C27: Deductions | E27: ='Ind. Study Project Rubric'!D2 -> 0 | F27: =IF(E27>0,"ERROR: Enter deductions as a negative number","")
A28: 0.7 | B28: Independent Study Project Score (out of 100 pts) | D28: =SUM('Ind. Study Project Rubric'!C7:C17) -> 100 | E28: ='Ind. Study Project Rubric'!D3 -> 0
A29: 0.3 | B29: ISP Presentation Score (out of 100 pts.) | D29: =SUM('ISP Presentation Rubric'!C5:C14) -> 100 | E29: ='ISP Presentation Rubric'!D1 -> 0
A30: 0 | B30: Other ISP components, if applicable (e.g., ISP journal) (out of 100 pts.) | D30: 100 | E30: 0
A31: =IF((A28+A29+A30<>1),"ERROR - percentages must total 100%","")
A32: ISP FINAL NUMBER GRADE | E32: =IF((A28+A29+A30<>1),"ERROR - check percentages",(ROUND((E28*A28)+(E29*A29)+(E30*A30),0))) -> 0
A34: ISP Comments:
A35: Enter ISP Comments here; please limit comments to the space provided.

Sheet Ind. Study Project Rubric
A1: RUBRIC: Independent Study Project | C1: Points awarded | D1: =D18 -> 0 | E1: Total possible pts | F1: =SUM(C7:C17) -> 100
C2: Deductions (e.g. for late submission) Enter as a negative number | G2: =IF(D2=0,"",IF(D2>0,"ERROR: Enter deductions as a negative number",IF(D2<-100,"ERROR: Please check values","Please include an explanation in the ISP comments.")))
C3: Project grade | D3: =D1+D2 -> 0
C5: Points | E5: Points Guidelines
A6: Category | B6: Possible Considerations | C6: Maximum | D6: Awarded | E6: Minimum | F6: Maximum
A7: Title / Acknowledgements / Abstract | B7: -The title is succinct, interesting, and engaging; and it clearly explains the project -The acknowledgements are complete and professionally written -The abstract clearly summarizes the project | C7: 5 | D7: 0 | E7: 5 | F7: 10 | G7: =IF(D7>C7,"This value cannot exceed the maximum in column C","")
A8: Research Question / Objectives / Justification | B8: -The study/research question is relevant, thought-provoking, and original -The project aims to contribute information on a topic relevant to the local community and/or other researchers -The objectives of the study are clearly presented and appropriate -The justification for the project is clear and contextualized | C8: 10 | D8: 0 | E8: 5 | F8: 15 | G8: =IF(D8>C8,"This value cannot exceed the maximum in column C","")
A9: Context and Literature Review | B9: -Context: The content is relevant. Important themes and background information are provided so reader understands study/research question and its place within the field of research -Literature Review: The paper includes appropriate, high-quality of relevant background sources, including several from refereed journals, indicating familiarity with key publications on the topic -Creative projects: background information is relevant to both the thematic topic being explored and the previous history of artistic work in this field. -Practica: the goals of the practicum are meaningful and are stated clearly; a focus project and how it relates to the program theme are clearly described. The history and work of the practicum organization, how its work relates to the program theme, and how it fits into the context of other similar organizations are all accurately described. | C9: 10 | D9: 0 | E9: 5 | F9: 15 | G9: =IF(D9>C9,"This value cannot exceed the maximum in column C","")
A10: Methods | B10: -The explanation of methodology is clear and accurate and supporting materials are included in appendices (if applicable) - Implementation of methods through the research process (e.g., interviewee recruitment) is thoughtful and handled with care -The methods are appropriate -Practica: a clear and complete description of the work undertaken is given, including dates and hours worked | C10: 15 | D10: 0 | E10: 10 | F10: 20 | G10: =IF(D10>C10,"This value cannot exceed the maximum in column C","")
A11: Ethics | B11: -Human Subjects policies and ethical research guidelines are adhered to and thoroughly discussed -Appropriate consideration is given to informed consent, anonymity, and confidentiality of research participants, in keeping with human subjects protocols and the LRB-approved ISP proposal -The ISP strengthens relationships and contributes to mutual trust between the author and research participants in ways that are respectful, culturally appropriate, and collaborative -Natural science ISPs not involving human subjects show an awareness of and respect for environmental ethics, as appropriate to the topic -The ISP is responsive to host community needs, as applicable | C11: 10 | D11: 0 | E11: 5 | F11: 10 | G11: =IF(D11>C11,"This value cannot exceed the maximum in column C","")
A12: Presentation of results / findings | B12: -The findings are complete and are logically and convincingly presented -The findings are clearly differentiated from discussion or interpretation -The prose discussion of findings is clear, succinct and logical -Any tables, graphs, photos and direct quotes are relevant and support the argument -Creative projects: The thinking and concepts behind the creative work, as well as the messages contained within it are clearly explained, and the intended audience (and availability to that audience) is described. | C12: 15 | D12: 0 | E12: 10 | F12: 20 | G12: =IF(D12>C12,"This value cannot exceed the maximum in column C","")
A13: Depth of analysis | B13: -Important implications raised by the findings are included -The argument is well-structured and different sources of information are well-integrated -Patterns in the findings (or a lack of a pattern) were identified and discussed -The author gives logical explanations of what findings mean -The author clearly and specifically related his/her findings to the study/research question -The findings are linked to previous research in the field -Creative projects: An analysis of the creative piece is given, including an assessment of its educational value and asthetics -Practica: A description and analysis of how the organization/focus project is set up and functions are given; the organization's strengths, weaknesses and challenges are discussed; observations of the organization or project are placed in the context of the existing literature | C13: 15 | D13: 0 | E13: 10 | F13: 20 | G13: =IF(D13>C13,"This value cannot exceed the maximum in column C","")
A14: Conclusions | B14: -The main findings are summarized and discussed within the broader implications or concerns of the study -The author made research-based recommendations, as appropriate, and made recommendations for future study -Practica: a range of lessons learned from the practicum are detailed | C14: 10 | D14: 0 | E14: 5 | F14: 10 | G14: =IF(D14>C14,"This value cannot exceed the maximum in column C","")
A15: Technical aspects | B15: -The paper is organized into major sections (and sub-sections, as appropriate) and/or follows guidelines established in accordance with the orientation of the program/discipline -Table of contents, In-text citations, and reference list or bibliography are done correctly and completely -There are no mistakes in writing & grammar, spelling & punctuation -The paper is clean, legible, well-formatted, professional in appearance, and aesthetically pleasing | C15: 5 | D15: 0 | E15: 5 | F15: 10 | G15: =IF(D15>C15,"This value cannot exceed the maximum in column C","")
A16: Effort | B16: Determinations of ISP effort vary per program | C16: 5 | D16: 0 | E16: 5 | F16: 10 | G16: =IF(D16>C16,"This value cannot exceed the maximum in column C","")
A17: Creative project, performance, or practicum | B17: Criteria for review of creative works or performances, or for successful completion of practica, will be determined by the program academic director | C17: 0 | D17: 0 | E17: 0 | F17: 35 | G17: =IF(D17>C17,"This value cannot exceed the maximum in column C","")
B18: Total possible pts - must equal 100 | C18: =SUMIF(C7:C17,">0",C7:C17) -> 100 | D18: =SUMIF(D7:D17,">0",D7:D17) -> 0

Sheet ISP Presentation Rubric
A1: RUBRIC: ISP Presentation | C1: Total points | D1: =SUM(D5:D14) -> 0 | E1: Total possible pts | F1: =SUM(C5:C14) -> 100
C3: Points | E3: Points Guidelines
A4: Category | B4: Possible Considerations | C4: Possible | D4: Awarded | E4: Minimum | F4: Maximum
A5: The student articulates a primary study/research question and provides a clear introduction to presentation. | B5: The student clearly articulates a research question. It is clear what the work was about and what to expect in the presentation. | C5: 10 | D5: 0 | E5: 5 | F5: 15 | G5: =IF(D5>C5,"This value cannot exceed the maximum in column C","")
A6: The student contextualizes her/his work. | B6: The student contextualizes the work in reference to the literature/ larger social panorama/scope of problem at hand/local site or relevant parameters. The presentation begins with focus and explanation. Practica: the student describes the organization's history and work and explains how its work fits the context of similar organizations; the student describes how the organization and project relate to the program theme | C6: 10 | D6: 0 | E6: 5 | F6: 15 | G6: =IF(D6>C6,"This value cannot exceed the maximum in column C","")
A7: The student addresses methods. | B7: The student includes a clear description of the methods employed and why these methods were chosen. The student discusses the success/failure/appropriateness or challenges of these methods. Practica: The student describes the work undertaken and methods used | C7: 10 | D7: 0 | E7: 5 | F7: 15 | G7: =IF(D7>C7,"This value cannot exceed the maximum in column C","")
A8: The student organizes the presentation of findings and discusses the content of the argument well. | B8: The student clearly addresses the study/research question through well-selected examples (evidence, arguments, cases). The content conforms fully to the goals set forth in introduction or stated study/research question. The presentation is easy to follow. Practica: the student shares observations and impressions of the organization/project | C8: 10 | D8: 0 | E8: 5 | F8: 15 | G8: =IF(D8>C8,"This value cannot exceed the maximum in column C","")
A9: The student provides in-depth analysis of findings, and discusses important implications of the project. | B9: The student articulates clear/though-provoking conclusions that relate back to the study/research question. The broader implications (for further study or inquiry) are mentioned. Creative projects: a description and explanation of the creative piece and how it relates to the program theme is given Practica: the student describes what s/he learned from the experience and how s/he can apply these knowledge upon return to the home community | C9: 20 | D9: 0 | E9: 5 | F9: 20 | G9: =IF(D9>C9,"This value cannot exceed the maximum in column C","")
A10: The student addresses ethics. | B10: Ethical considerations/human subjects issues are covered fully and discussed well. The issues included are relevant. | C10: 10 | D10: 0 | E10: 5 | F10: 15 | G10: =IF(D10>C10,"This value cannot exceed the maximum in column C","")
A11: The student includes a brief personal reflection. | B11: The student discusses the personal relevance or lessons learned in the experience. The discussion is thoughtful and appropriate. | C11: 5 | D11: 0 | E11: 0 | F11: 10 | G11: =IF(D11>C11,"This value cannot exceed the maximum in column C","")
A12: The student effectively manages discussion with the audience. | B12: The student responds well to questions and can clarify or add new examples, explain points, ponder ideas, etc. "live and on-stage." The student shows the ability and willingness to open and extend the discussion with others. | C12: 10 | D12: 0 | E12: 5 | F12: 15 | G12: =IF(D12>C12,"This value cannot exceed the maximum in column C","")
A13: The student's presentation is well organized, stays within the designated time, and is well articulated. | B13: Visual or material support is clearly referred to and explained/engaged in the presentation. There is evidence that the student prepared and practiced the delivery. The student speaks clearly and employs effective body language (looks at the audience, manages papers or other things well). The student respects the time allotted for the presentation (neither too short nor too long). | C13: 10 | D13: 0 | E13: 5 | F13: 15 | G13: =IF(D13>C13,"This value cannot exceed the maximum in column C","")
A14: The student delivers a respectful and professional presentation. | B14: The student speaks and acts in a manner that is respectful of him/herself, the people and the organizations or entities involved in the work. The student is humble about what has been achieved. The student avoids stereotyping. | C14: 5 | D14: 0 | E14: 5 | F14: 10 | G14: =IF(D14>C14,"This value cannot exceed the maximum in column C","")
C15: =SUM(C5:C14) -> 100 | D15: =SUM(D5:D14) -> 0

Sheet Instructions
A1: INSTRUCTIONS: ISP ASSESSMENT SUMMARY SHEET and ISP RUBRICS
A2: The ISP rubric workbook - ONE PER STUDENT - is organized by worksheets (tabs) located at the bottom of the screen.
A4: NOTE: A red ‘X” indicate that you have exceeded the maximum points allowed in that cell. If you see this red "X" please check your work.
A6: First Tab: ISP Assessment Summary Sheet
A7: ISP Title and Keywords: Edit section to include ISP title and keywords. Keywords may be selected from the options given on the "ISP Keywords" tab of this document, or you may designate new keywords, as appropriate.
A8: Independent Study Project score breakdown: This section is locked; values should not (and cannot) be entered here.This worksheet is linked through formulas to the project and presentation rubric worksheets. The scores you enter in each rubric worksheet will automatically populate the cover sheet and calculate the corresponding letter grade.
A9: Grading Percentages: You may edit the text in red. Please make sure that the percentages match your ISP syllabus. If the percentages of your assignments for the ISP differ from those already on the sheet, enter the appropriate percentage of the final grade allocated to paper, presentation, and other components (e.g., 70% paper; 25% presentation; 5% work journal). The text on the third line in the grading criteria section (after ISP paper and ISP presentation scores) should be updated where applicable to reflect the other components of the ISP. Remember to enter the score on the right.
A10: Comment Section: This required section allows you to include comments based on your assessment of the paper, presentation, and any other graded criteria of the ISP course (e.g. work journal, etc.). This comment section replaces the ISP narrative and should focus only on ISP assessment. Please be concise to keep sheet to one page. You will receive an error message if there are more than 1300 characters in the comments section.
A12: Second Tab: Independent Study Project Rubric
A13: Point values: the individual student rubrics you receive during the ISP period should reflect either the standard point distribution, or the program-specific point distribution you sent to your academic dean at the beginning of the semester.
A14: Possible considerations: Each grading category includes "possible considerations" that you may take into account while grading your students' projects. A maximum value is given for each category. Enter the student's score in each category. You will receive an error message and a red "X", both here and on the Assessment Summary worksheet, if you exceed the maximum value in any category. The individual category scores as well as deductions and the total score automatically appear on the summary worksheet.
A15: Creative Projects or Practicum-based ISPs: If students on your program complete alternative ISPs such as creative projects or practica, the rubric can be adapted on a case-by-case basis to award up to 35 points for these types of projects. If this is the case for any of your students, please consult with your academic dean.
... A25: You may select keywords on this tab to categorize student ISPs in the allotted section (in red) of the ISP Assessment Summary tab (tab 1). This suggested keyword list can also be found in your Standard Procedures Manual. Feel free to assign a keyword not on the list, as appropriate.

Sheet ISP Keywords
A1: ISP Key Words | E1: ISP Key Words
A2: THE HUMANITIES AND SOCIAL SCIENCES | F2: THE SCIENCES AND ENGINEERING
A3: Communications and the Arts | C3: Social Sciences | E3: Biology, Earth, and Environmental Sciences
A4: Communications and the Arts: General | B4: Philosophy of Education | C4: Social Sciences: General | E4: Bio, Earth & Env: General | F4: Neuroscience | G4: Health Sciences
A5: Architecture | B5: Physical Education | C5: Anthropology (other) | E5: Agriculture | F5: Oceanography | G5: Health Sciences: General
A6: Art History | B6: Reading | C6: Archaeology | E6: Agronomy | F6: Oceanography | G6: Audiology
A7: Cinema | B7: Religious Education | C7: Business Administration | E7: Anatomy | F7: Oil, Gas, and Energy | G7: Dentistry
A8: Dance | B8: Sciences | C8: Commerce-Business | E8: Animal Culture and Nutrition | F8: Other Environmental Sciences | G8: Health Care Management
A9: Design and Decorative Arts | B9: Secondary Education | C9: Criminology and Penology | E9: Animal Pathology | F9: Other Oceanog & Atmosph Sci & Meteorology | G9: Health Sciences: Education
A10: Fine Arts | B10: Social Sciences | C10: Cultural Anthropology | E10: Animal Physiology | F10: Paleobiology | G10: Human Development
A11: Information Science | B11: Sociology of Education | C11: Demography | E11: Atmospheric Sciences | F11: Paleontology | G11: Immunology
A12: Journalism | B12: Special Education | C12: Development Studies | E12: Biogeochemistry | F12: Physical Geography | G12: Medicine and Surgery
A13: Landscape Architecture | B13: Teacher Training | C13: Disaster Management | E13: Biology | F13: Physical Oceanography | G13: Mental Health
A14: Mass Communications | B14: Technology | C14: Economics | E14: Biophysics | F14: Plant Physiology | G14: Nursing
A15: Music | B15: Vocational Education | C15: Environmental Studies | E15: Biostatistics | F15: Sedimentology | G15: Nutrition
A16: Speech Communication | C16: Ethnicity | E16: Botany | F16: Soil Science | G16: Obstet & Gynecol (incl Midwifery)
A17: Theater | B17: Language, Literature, & Linguistics | C17: Ethnobotany | E17: Climate | F17: Stratigraphy | G17: Occupational Health and Safety
B18: Lang, Lit and Ling: General | C18: Folklore | E18: Cosmochemistry | F18: Sustainability | G18: Oncology
A19: Education | B19: Language: General | C19: Gender Studies | E19: Ecology | F19: Tectonics and Structure | G19: Ophthalmology
A20: Education: General | B20: Ancient Languages | C20: Geography | E20: Entomology | F20: Veterinary Science | G20: Pathology
A21: Adult and Continuing Education | B21: Linguistics: General | C21: Gerontology | E21: Envir Health & Protection | F21: Volcanology | G21: Pharmacology
A22: Art Education | B22: Modern Linguistics | C22: History | E22: Envir Indicators & Impact Assessmt | F22: Water Resource Management | G22: Pharmacy
A23: Bilingual&Multicultural Education | B23: Rhetoric and Composition | C23: Individual and Family Studies | E23: Environmental Monitoring | F23: Zoology | G23: Public Health
A24: Business Education | B24: Literature: General | C24: Industrial and Labor Relations | E24: Environmental Sciences | G24: Rehabilitation and Therapy
A25: Curriculum and Instruction | B25: African Literature | C25: International Law & Relations | E25: Fisheries and Aquaculture | F25: Engineering | G25: Speech Pathology
A26: Early Childhood Education | B26: Asian Literature | C26: Law | E26: Food Science and Technology | F26: Engineering: General | G26: Traditional Healing
A27: Education: Administration | B27: Caribbean Literature | C27: Management | E27: Forestry and Wildlife | F27: Agricultural Engineering
A28: Educational Psychology | B28: Comparative Literature | C28: Marketing | E28: Fresh Water Studies | F28: Biomedical Engineering | G28: Physical Sciences
A29: Elementary Education | B29: English Literature | C29: Peace & Social Justice | E29: Genetics | F29: Chemical Engineering | G29: Applied Sciences
A30: Environmental Education | B30: Germanic Literature | C30: Physical Anthropology | E30: Geochemistry | F30: Civil Engineering | G30: Applied Mechanics
A31: Guidance and Counseling | B31: Latin American Literature | C31: Political Science | E31: Geomorphology | F31: Environmental Engineering | G31: Computer science
A32: Health Education | B32: Middle Eastern Literature | C32: Public Administration | E32: Geophysics | F32: Marine and Ocean Engineering | G32: Geotechnology
A33: Higher Education | B33: Romance Literature | C33: Public and Social Welfare | E33: Geophysics and Seismology | F33: Mechanical Engineering | G33: Operations Research
A34: History of Education | B34: Slavic and East European Literature | C34: Recreation | E34: Glaciology | F34: Metallurgy | G34: Sustainable technologies
A35: Home Economics | C35: Regional Studies: Africa | E35: Hydrology | F35: Mining
A36: Industrial Education | B36: Philosophy, Religion and Theology | C36: Rgl Stu: Asia, Austr & Oceania | E36: Meteorology | F36: Packaging | G36: Psychology
A37: Language and Literature | B37: Phil, Rel & Theology: General | C37: Regional Studies: Europe | E37: Microbiology | F37: Sanitary, Municipal, & Waste Mngmt | G37: Psychology: General
A38: Mathematics | B38: Clergy | C38: Regional Studies: L America | E38: Mineral Physics | G38: Behavioral Psychology
A39: Music Education | B39: Philosophy | C39: Regional Stu: Middle East | E39: Mineralogy | F39: Geology | G39: Cognitive Psychology
B40: Religion | C40: Social Work | E40: Natural Resource Economics | F40: Engineering Geology | G40: Developmental Psychology
...
